BEGIN:VCALENDAR
VERSION:2.0
PRODID:-//IBE Callao - ECPv6.15.20//NONSGML v1.0//EN
CALSCALE:GREGORIAN
METHOD:PUBLISH
X-ORIGINAL-URL:https://ibecallao.pe
X-WR-CALDESC:Eventos para IBE Callao
REFRESH-INTERVAL;VALUE=DURATION:PT1H
X-Robots-Tag:noindex
X-PUBLISHED-TTL:PT1H
BEGIN:VTIMEZONE
TZID:America/New_York
BEGIN:DAYLIGHT
TZOFFSETFROM:-0500
TZOFFSETTO:-0400
TZNAME:EDT
DTSTART:20230312T070000
END:DAYLIGHT
BEGIN:STANDARD
TZOFFSETFROM:-0400
TZOFFSETTO:-0500
TZNAME:EST
DTSTART:20231105T060000
END:STANDARD
BEGIN:DAYLIGHT
TZOFFSETFROM:-0500
TZOFFSETTO:-0400
TZNAME:EDT
DTSTART:20240310T070000
END:DAYLIGHT
BEGIN:STANDARD
TZOFFSETFROM:-0400
TZOFFSETTO:-0500
TZNAME:EST
DTSTART:20241103T060000
END:STANDARD
BEGIN:DAYLIGHT
TZOFFSETFROM:-0500
TZOFFSETTO:-0400
TZNAME:EDT
DTSTART:20250309T070000
END:DAYLIGHT
BEGIN:STANDARD
TZOFFSETFROM:-0400
TZOFFSETTO:-0500
TZNAME:EST
DTSTART:20251102T060000
END:STANDARD
END:VTIMEZONE
BEGIN:VEVENT
DTSTART;VALUE=DATE:20240601
DTEND;VALUE=DATE:20240602
DTSTAMP:20260423T101640
CREATED:20240522T024235Z
LAST-MODIFIED:20240525T012346Z
UID:1329-1717200000-1717286399@ibecallao.pe
SUMMARY:Culto con niños
DESCRIPTION:Culto con niños\, 1 de junio 2024\, 10am.
URL:https://ibecallao.pe/event/culto-con-ninos/
LOCATION:IBE Callao\, IBE Callao\, Callao\, Callao\, 07031\, Perú
CATEGORIES:All Events,Event in Slider
ATTACH;FMTTYPE=image/jpeg:https://ibecallao.pe/wp-content/uploads/2024/03/ninos-e1710284492506.jpg
END:VEVENT
END:VCALENDAR