BEGIN:VCALENDAR
VERSION:2.0
PRODID:-//IBE Callao - ECPv6.15.20//NONSGML v1.0//EN
CALSCALE:GREGORIAN
METHOD:PUBLISH
X-ORIGINAL-URL:https://ibecallao.pe
X-WR-CALDESC:Eventos para IBE Callao
REFRESH-INTERVAL;VALUE=DURATION:PT1H
X-Robots-Tag:noindex
X-PUBLISHED-TTL:PT1H
BEGIN:VTIMEZONE
TZID:America/New_York
BEGIN:DAYLIGHT
TZOFFSETFROM:-0500
TZOFFSETTO:-0400
TZNAME:EDT
DTSTART:20230312T070000
END:DAYLIGHT
BEGIN:STANDARD
TZOFFSETFROM:-0400
TZOFFSETTO:-0500
TZNAME:EST
DTSTART:20231105T060000
END:STANDARD
BEGIN:DAYLIGHT
TZOFFSETFROM:-0500
TZOFFSETTO:-0400
TZNAME:EDT
DTSTART:20240310T070000
END:DAYLIGHT
BEGIN:STANDARD
TZOFFSETFROM:-0400
TZOFFSETTO:-0500
TZNAME:EST
DTSTART:20241103T060000
END:STANDARD
BEGIN:DAYLIGHT
TZOFFSETFROM:-0500
TZOFFSETTO:-0400
TZNAME:EDT
DTSTART:20250309T070000
END:DAYLIGHT
BEGIN:STANDARD
TZOFFSETFROM:-0400
TZOFFSETTO:-0500
TZNAME:EST
DTSTART:20251102T060000
END:STANDARD
END:VTIMEZONE
BEGIN:VEVENT
DTSTART;TZID=America/New_York:20240615T100000
DTEND;TZID=America/New_York:20240615T130000
DTSTAMP:20260423T101700
CREATED:20240522T000001Z
LAST-MODIFIED:20240610T165745Z
UID:1327-1718445600-1718456400@ibecallao.pe
SUMMARY:Reunión de la edad de oro
DESCRIPTION:Reunión de la edad de oro
URL:https://ibecallao.pe/event/reunion-edad-de-oro/
LOCATION:IBE Callao\, IBE Callao\, Callao\, Callao\, 07031\, Perú
CATEGORIES:All Events,Event in Slider
ATTACH;FMTTYPE=image/jpeg:https://ibecallao.pe/wp-content/uploads/2024/03/3a-2-e1710284775925.jpg
END:VEVENT
END:VCALENDAR